BEGIN:VCALENDAR
VERSION:2.0
PRODID:-//Tukios.com/
BEGIN:VEVENT
UID:9b28efeb-6d6d-47af-a5d7-87eacb124572@www.honoringmemoriesgrove.com
DTSTAMP:20260422T192122Z
DTSTART:20260424T150000Z
DTEND:20260424T160000Z
SUMMARY:Burial
DESCRIPTION:
URL:https://www.honoringmemoriesgrove.com/obituaries/marion-gordineer
LOCATION:Sixkiller Cemetary E 255 Road  Afton OK 74331
GEO:36.6487508;-94.9363436
END:VEVENT
END:VCALENDAR