BEGIN:VCALENDAR
VERSION:2.0
PRODID:-//Tukios.com/
BEGIN:VEVENT
UID:0302350e-c1f4-4d35-b6b4-7a5d7d17fd95@www.honoringmemoriesgrove.com
DTSTAMP:20260425T191800Z
DTSTART:20260501T160000Z
DTEND:20260501T170000Z
SUMMARY:Celebration of Life
DESCRIPTION:
URL:https://www.honoringmemoriesgrove.com/obituaries/gretchen-deighton
LOCATION: 711 S Main St  Grove OK 74344
GEO:36.5889118;-94.7687945
END:VEVENT
END:VCALENDAR